BEGIN:VCALENDAR
VERSION:2.0
PRODID:-//Sablé TT - ECPv6.15.20//NONSGML v1.0//EN
CALSCALE:GREGORIAN
METHOD:PUBLISH
X-ORIGINAL-URL:https://sablett.fr
X-WR-CALDESC:Évènements pour Sablé TT
REFRESH-INTERVAL;VALUE=DURATION:PT1H
X-Robots-Tag:noindex
X-PUBLISHED-TTL:PT1H
BEGIN:VTIMEZONE
TZID:Europe/Paris
BEGIN:DAYLIGHT
TZOFFSETFROM:+0100
TZOFFSETTO:+0200
TZNAME:CEST
DTSTART:20160327T010000
END:DAYLIGHT
BEGIN:STANDARD
TZOFFSETFROM:+0200
TZOFFSETTO:+0100
TZNAME:CET
DTSTART:20161030T010000
END:STANDARD
BEGIN:DAYLIGHT
TZOFFSETFROM:+0100
TZOFFSETTO:+0200
TZNAME:CEST
DTSTART:20170326T010000
END:DAYLIGHT
BEGIN:STANDARD
TZOFFSETFROM:+0200
TZOFFSETTO:+0100
TZNAME:CET
DTSTART:20171029T010000
END:STANDARD
BEGIN:DAYLIGHT
TZOFFSETFROM:+0100
TZOFFSETTO:+0200
TZNAME:CEST
DTSTART:20180325T010000
END:DAYLIGHT
BEGIN:STANDARD
TZOFFSETFROM:+0200
TZOFFSETTO:+0100
TZNAME:CET
DTSTART:20181028T010000
END:STANDARD
END:VTIMEZONE
BEGIN:VEVENT
DTSTART;TZID=Europe/Paris:20170303T200000
DTEND;TZID=Europe/Paris:20170303T213000
DTSTAMP:20260423T202240
CREATED:20170215T153804Z
LAST-MODIFIED:20170215T153804Z
UID:2947-1488571200-1488576600@sablett.fr
SUMMARY:Réunion de bureau | Tournoi\, journée ping/bad\, repas 10 ans\, maillots
DESCRIPTION:
URL:https://sablett.fr/calendrier/reunion-de-bureau-tournoi-journee-pingbad-repas-10-ans-maillots/
CATEGORIES:Réunion
END:VEVENT
END:VCALENDAR